BEGIN:VCALENDAR
VERSION:2.0
PRODID:-//Universal Public Procurement Certification Council - ECPv6.15.18//NONSGML v1.0//EN
CALSCALE:GREGORIAN
METHOD:PUBLISH
X-ORIGINAL-URL:https://uppcc.org
X-WR-CALDESC:Events for Universal Public Procurement Certification Council
REFRESH-INTERVAL;VALUE=DURATION:PT1H
X-Robots-Tag:noindex
X-PUBLISHED-TTL:PT1H
BEGIN:VTIMEZONE
TZID:UTC
BEGIN:STANDARD
TZOFFSETFROM:+0000
TZOFFSETTO:+0000
TZNAME:UTC
DTSTART:20240101T000000
END:STANDARD
END:VTIMEZONE
BEGIN:VEVENT
DTSTART;VALUE=DATE:20250330
DTEND;VALUE=DATE:20250402
DTSTAMP:20260423T051533
CREATED:20250123T231907Z
LAST-MODIFIED:20250123T231907Z
UID:5282-1743292800-1743551999@uppcc.org
SUMMARY:VAGP Conference - Portsmouth VA
DESCRIPTION:VAGP
URL:https://uppcc.org/events/vagp-conference-portsmouth-va/
END:VEVENT
BEGIN:VEVENT
DTSTART;VALUE=DATE:20250331
DTEND;VALUE=DATE:20250402
DTSTAMP:20260423T051533
CREATED:20250123T232508Z
LAST-MODIFIED:20250123T232508Z
UID:5290-1743379200-1743551999@uppcc.org
SUMMARY:2025 NC PEAK Conference - Raleigh NC
DESCRIPTION:
URL:https://uppcc.org/events/2025-nc-peak-conference-raleigh-nc/
END:VEVENT
BEGIN:VEVENT
DTSTART;VALUE=DATE:20250402
DTEND;VALUE=DATE:20250405
DTSTAMP:20260423T051533
CREATED:20250123T232112Z
LAST-MODIFIED:20250123T232112Z
UID:5284-1743552000-1743811199@uppcc.org
SUMMARY:IAPPO Spring Conference & Supplier Expo - Champaign IL
DESCRIPTION:
URL:https://uppcc.org/events/iappo-spring-conference-supplier-expo-champaign-il/
END:VEVENT
BEGIN:VEVENT
DTSTART;VALUE=DATE:20250418
DTEND;VALUE=DATE:20250419
DTSTAMP:20260423T051533
CREATED:20250123T232343Z
LAST-MODIFIED:20250123T232343Z
UID:5288-1744934400-1745020799@uppcc.org
SUMMARY:UPPCC Office Closed
DESCRIPTION:
URL:https://uppcc.org/events/uppcc-office-closed/
END:VEVENT
BEGIN:VEVENT
DTSTART;TZID=UTC:20250420T080000
DTEND;TZID=UTC:20250420T170000
DTSTAMP:20260423T051533
CREATED:20250411T180433Z
LAST-MODIFIED:20250411T181543Z
UID:5574-1745136000-1745168400@uppcc.org
SUMMARY:TxPPA Pre-Conference Sessions: CPPB Prep Course with Dianne Palmer-Boeck - Round Rock\, TX
DESCRIPTION:
URL:https://uppcc.org/events/txppa-pre-conference-sessions-cppb-prep-course-with-dianne-palmer-boeck/
END:VEVENT
BEGIN:VEVENT
DTSTART;TZID=UTC:20250421T080000
DTEND;TZID=UTC:20250423T170000
DTSTAMP:20260423T051533
CREATED:20250410T212956Z
LAST-MODIFIED:20250411T181303Z
UID:5554-1745222400-1745427600@uppcc.org
SUMMARY:TxPPA Spring Conference - Round Rock\, TX
DESCRIPTION:
URL:https://uppcc.org/events/txppa-spring-conference/
END:VEVENT
BEGIN:VEVENT
DTSTART;TZID=UTC:20250423T080000
DTEND;TZID=UTC:20250425T170000
DTSTAMP:20260423T051533
CREATED:20250410T213043Z
LAST-MODIFIED:20250410T220530Z
UID:5557-1745395200-1745600400@uppcc.org
SUMMARY:UPPCC OFFICE CLOSED
DESCRIPTION:
URL:https://uppcc.org/events/uppcc-office-closed-2/
END:VEVENT
END:VCALENDAR