BEGIN:VCALENDAR
VERSION:2.0
PRODID:-//Universal Public Procurement Certification Council - ECPv6.15.18//NONSGML v1.0//EN
CALSCALE:GREGORIAN
METHOD:PUBLISH
X-ORIGINAL-URL:https://uppcc.org
X-WR-CALDESC:Events for Universal Public Procurement Certification Council
REFRESH-INTERVAL;VALUE=DURATION:PT1H
X-Robots-Tag:noindex
X-PUBLISHED-TTL:PT1H
BEGIN:VTIMEZONE
TZID:UTC
BEGIN:STANDARD
TZOFFSETFROM:+0000
TZOFFSETTO:+0000
TZNAME:UTC
DTSTART:20240101T000000
END:STANDARD
END:VTIMEZONE
BEGIN:VEVENT
DTSTART;VALUE=DATE:20250303
DTEND;VALUE=DATE:20250304
DTSTAMP:20260423T040926
CREATED:20250123T220734Z
LAST-MODIFIED:20250123T224315Z
UID:5272-1740960000-1741046399@uppcc.org
SUMMARY:May 2025 Exam Application Deadline
DESCRIPTION:
URL:https://uppcc.org/events/spring-2025-exam-application-window-deadline/
END:VEVENT
BEGIN:VEVENT
DTSTART;VALUE=DATE:20250304
DTEND;VALUE=DATE:20250307
DTSTAMP:20260423T040926
CREATED:20250123T224050Z
LAST-MODIFIED:20250123T224050Z
UID:5274-1741046400-1741305599@uppcc.org
SUMMARY:NASPO Exchange - Las Vegas\, NV
DESCRIPTION:
URL:https://uppcc.org/events/naspo-exchange-las-vegas-nv/
END:VEVENT
BEGIN:VEVENT
DTSTART;VALUE=DATE:20250318
DTEND;VALUE=DATE:20250319
DTSTAMP:20260423T040926
CREATED:20250123T224207Z
LAST-MODIFIED:20250123T224355Z
UID:5276-1742256000-1742342399@uppcc.org
SUMMARY:May 2025 Exam Late Application Deadline
DESCRIPTION:
URL:https://uppcc.org/events/spring-2025-exam-window-late-application-deadline/
END:VEVENT
BEGIN:VEVENT
DTSTART;VALUE=DATE:20250330
DTEND;VALUE=DATE:20250402
DTSTAMP:20260423T040926
CREATED:20250123T231907Z
LAST-MODIFIED:20250123T231907Z
UID:5282-1743292800-1743551999@uppcc.org
SUMMARY:VAGP Conference - Portsmouth VA
DESCRIPTION:VAGP
URL:https://uppcc.org/events/vagp-conference-portsmouth-va/
END:VEVENT
BEGIN:VEVENT
DTSTART;VALUE=DATE:20250331
DTEND;VALUE=DATE:20250402
DTSTAMP:20260423T040926
CREATED:20250123T232508Z
LAST-MODIFIED:20250123T232508Z
UID:5290-1743379200-1743551999@uppcc.org
SUMMARY:2025 NC PEAK Conference - Raleigh NC
DESCRIPTION:
URL:https://uppcc.org/events/2025-nc-peak-conference-raleigh-nc/
END:VEVENT
END:VCALENDAR